BEGIN:VCALENDAR
VERSION:2.0
PRODID:-//eventon.com NONSGML v1.0//EN
CALSCALE:GREGORIAN
METHOD:PUBLISH
BEGIN:VEVENT
UID:69e8f649deeb1
DTSTAMP:20260422T162441Z
DTSTART:20260107T090000Z
DTEND:20260107T170000Z
LOCATION:
SUMMARY:PRESORT & REGULAR SALE
DESCRIPTION:PRESORT & REGULAR SALE\nhttps://vermilioncattle.com/events/pres
 ort-regular-sale-3/
URL:https://vermilioncattle.com/events/presort-regular-sale-3/
END:VEVENT
END:VCALENDAR